BEGIN:VCALENDAR
VERSION:2.0
PRODID:-//Healing a Hearts Loss - ECPv5.14.0.4//NONSGML v1.0//EN
CALSCALE:GREGORIAN
METHOD:PUBLISH
X-WR-CALNAME:Healing a Hearts Loss
X-ORIGINAL-URL:https://www.healingaheartsloss.com
X-WR-CALDESC:Events for Healing a Hearts Loss
BEGIN:VTIMEZONE
TZID:America/New_York
BEGIN:DAYLIGHT
TZOFFSETFROM:-0500
TZOFFSETTO:-0400
TZNAME:EDT
DTSTART:20170312T070000
END:DAYLIGHT
BEGIN:STANDARD
TZOFFSETFROM:-0400
TZOFFSETTO:-0500
TZNAME:EST
DTSTART:20171105T060000
END:STANDARD
END:VTIMEZONE
BEGIN:VEVENT
DTSTART;TZID=America/New_York:20170925T183000
DTEND;TZID=America/New_York:20170925T183000
DTSTAMP:20260423T105042
CREATED:20170723T192518Z
LAST-MODIFIED:20170723T194609Z
UID:2132-1506364200-1506364200@www.healingaheartsloss.com
SUMMARY:Suicide Loss Support Group for St. Thomas & area
DESCRIPTION:Suicide Loss Support Group\nFor those who are or have been affected by a Suicide Death\n\n\nFREE\, 8 weekly sessions        \n\n\nclosed group\n\n\nfor people over the age of 18 years\n\n\nmust be at least 6 months since the loss to participate \n\n\nParticipants will have the opportunity to receive support from peers\, gain understanding about grief and loss\, and learn coping strategies and understanding on how to move forward.\nFacilitated by Barbara J. Saunders a grief counsellor/Thanatologist\nStart Date: Monday\, September 18\, 2017   \nTime: 6:30 to 8:30\nFor more information or to register\ncall Kate at 633 7989 ext. 410   \nPre-registration is required
URL:https://www.healingaheartsloss.com/event/suicide-loss-support-group-in-st-thomas-area-2/
LOCATION:to be announced\, St. Thomas\, Ontario\, Canada
CATEGORIES:SUPPORT GROUP
END:VEVENT
END:VCALENDAR