BEGIN:VCALENDAR
VERSION:2.0
PRODID:-//Healing a Hearts Loss - ECPv5.14.0.4//NONSGML v1.0//EN
CALSCALE:GREGORIAN
METHOD:PUBLISH
X-WR-CALNAME:Healing a Hearts Loss
X-ORIGINAL-URL:https://www.healingaheartsloss.com
X-WR-CALDESC:Events for Healing a Hearts Loss
BEGIN:VTIMEZONE
TZID:America/New_York
BEGIN:DAYLIGHT
TZOFFSETFROM:-0500
TZOFFSETTO:-0400
TZNAME:EDT
DTSTART:20180311T070000
END:DAYLIGHT
BEGIN:STANDARD
TZOFFSETFROM:-0400
TZOFFSETTO:-0500
TZNAME:EST
DTSTART:20181104T060000
END:STANDARD
END:VTIMEZONE
BEGIN:VEVENT
DTSTART;TZID=America/New_York:20180514T183000
DTEND;TZID=America/New_York:20180514T203000
DTSTAMP:20260416T112452
CREATED:20180129T192418Z
LAST-MODIFIED:20180129T192659Z
UID:2421-1526322600-1526329800@www.healingaheartsloss.com
SUMMARY:Suicide Loss Support Group for St. Thomas and Area
DESCRIPTION:Suicide Loss Support Group\nfor St. Thomas and Area\nThis FREE 8 week support group is for those who are or have been affected by a suicide death loss and are aged 18 or over.\nThe support group started April 9\, 2018\nPlease call 519-633-7989 to be added to the wait list for when the next group begins.  We would love to have you participate.\nMia is at ext. 422 and Kate is at ext. 410
URL:https://www.healingaheartsloss.com/event/suicide-loss-support-group-for-st-thomas-and-area-9/
CATEGORIES:SUPPORT GROUP
END:VEVENT
END:VCALENDAR