BEGIN:VCALENDAR
VERSION:2.0
PRODID:-//Healing a Hearts Loss - ECPv5.14.0.4//NONSGML v1.0//EN
CALSCALE:GREGORIAN
METHOD:PUBLISH
X-WR-CALNAME:Healing a Hearts Loss
X-ORIGINAL-URL:https://www.healingaheartsloss.com
X-WR-CALDESC:Events for Healing a Hearts Loss
BEGIN:VTIMEZONE
TZID:America/New_York
BEGIN:DAYLIGHT
TZOFFSETFROM:-0500
TZOFFSETTO:-0400
TZNAME:EDT
DTSTART:20180311T070000
END:DAYLIGHT
BEGIN:STANDARD
TZOFFSETFROM:-0400
TZOFFSETTO:-0500
TZNAME:EST
DTSTART:20181104T060000
END:STANDARD
END:VTIMEZONE
BEGIN:VEVENT
DTSTART;TZID=America/New_York:20180528T183000
DTEND;TZID=America/New_York:20180528T203000
DTSTAMP:20260416T112427
CREATED:20180129T185909Z
LAST-MODIFIED:20180129T185953Z
UID:2408-1527532200-1527539400@www.healingaheartsloss.com
SUMMARY:Suicide Loss Support Group for St. Thomas and Area
DESCRIPTION:Suicide Loss Support Group\nfor St. Thomas and Area\nThis free support group is for those who are or have been affected by a suicide death loss.\ncontact 519-633-7989 and ask for Mia at ext. 422 or Kate at ext. 410 to be put on await list for the next group to come.  We would love to have you attend.
URL:https://www.healingaheartsloss.com/event/suicide-loss-support-group-for-st-thomas-and-area-5/
CATEGORIES:SUPPORT GROUP
END:VEVENT
END:VCALENDAR