BEGIN:VCALENDAR
VERSION:2.0
PRODID:-//Healing a Hearts Loss - ECPv5.14.0.4//NONSGML v1.0//EN
CALSCALE:GREGORIAN
METHOD:PUBLISH
X-WR-CALNAME:Healing a Hearts Loss
X-ORIGINAL-URL:https://www.healingaheartsloss.com
X-WR-CALDESC:Events for Healing a Hearts Loss
BEGIN:VTIMEZONE
TZID:America/New_York
BEGIN:DAYLIGHT
TZOFFSETFROM:-0500
TZOFFSETTO:-0400
TZNAME:EDT
DTSTART:20180311T070000
END:DAYLIGHT
BEGIN:STANDARD
TZOFFSETFROM:-0400
TZOFFSETTO:-0500
TZNAME:EST
DTSTART:20181104T060000
END:STANDARD
END:VTIMEZONE
BEGIN:VEVENT
DTSTART;TZID=America/New_York:20180423T183000
DTEND;TZID=America/New_York:20180423T203000
DTSTAMP:20260414T010705
CREATED:20180129T184347Z
LAST-MODIFIED:20180129T192900Z
UID:2401-1524508200-1524515400@www.healingaheartsloss.com
SUMMARY:Suicide Loss Support Group for St. Thomas and Area
DESCRIPTION:Suicide Loss Support Group\nFor those who are of have been affected by a suicide death\n\n\nFREE 8 weekly sessions\n\n\nsmall closed group \n\n\nmust be aged 18 or over\n\n\nmust have been at least 6 months since the loss to participate\nParticipants will have the opportunity to receive support from Peers\, gain understanding about grief and loss\, learn coping strategies and understanding on how to move forward from this loss.\nStart date: Monday\, April 9\, 2018\n\n\nCall 519-633-7989 for more information or to register\nMia at ext. 422 or kate at ext. 410
URL:https://www.healingaheartsloss.com/event/suicide-loss-support-group-for-st-thomas-and-area-3/
CATEGORIES:SUPPORT GROUP
END:VEVENT
END:VCALENDAR