BEGIN:VCALENDAR
VERSION:2.0
PRODID:-//Healing a Hearts Loss - ECPv5.14.0.4//NONSGML v1.0//EN
CALSCALE:GREGORIAN
METHOD:PUBLISH
X-WR-CALNAME:Healing a Hearts Loss
X-ORIGINAL-URL:https://www.healingaheartsloss.com
X-WR-CALDESC:Events for Healing a Hearts Loss
BEGIN:VTIMEZONE
TZID:America/New_York
BEGIN:DAYLIGHT
TZOFFSETFROM:-0500
TZOFFSETTO:-0400
TZNAME:EDT
DTSTART:20180311T070000
END:DAYLIGHT
BEGIN:STANDARD
TZOFFSETFROM:-0400
TZOFFSETTO:-0500
TZNAME:EST
DTSTART:20181104T060000
END:STANDARD
END:VTIMEZONE
BEGIN:VEVENT
DTSTART;TZID=America/New_York:20180416T183000
DTEND;TZID=America/New_York:20180416T203000
DTSTAMP:20260414T022751
CREATED:20180129T183241Z
LAST-MODIFIED:20180129T192917Z
UID:2373-1523903400-1523910600@www.healingaheartsloss.com
SUMMARY:Suicide Loss Support Group for St. Thomas and Area
DESCRIPTION:Suicide Loss Support Group\nfor St. Thomas and area\nFor those who are or have been affected by a suicide death\n\n\nFREE 8 weekly sessions\n\n\nsmall closed group\n\n\nfor those aged 18 and over\n\n\nprior registration is required\n\n\nParticipants will have the opportunity to receive support from peers\, gain understanding about grief and loss\, learn coping strategies and understanding on how to move forward from this loss.\nStart date is April 9\, 2018\nCall 519-633-7989 for more information and to register\nMia at ext. 422 or Kate at ext. 410
URL:https://www.healingaheartsloss.com/event/suicide-loss-support-group-for-st-thomas-and-area-2/
LOCATION:Central Community Health Centre\, St. Thomas\, 359 Talbot St\, St. Thomas\, ON\, N5P 1B7\, Canada
CATEGORIES:SUPPORT GROUP
END:VEVENT
END:VCALENDAR