BEGIN:VCALENDAR
VERSION:2.0
PRODID:-//Healing a Hearts Loss - ECPv5.14.0.4//NONSGML v1.0//EN
CALSCALE:GREGORIAN
METHOD:PUBLISH
X-WR-CALNAME:Healing a Hearts Loss
X-ORIGINAL-URL:https://www.healingaheartsloss.com
X-WR-CALDESC:Events for Healing a Hearts Loss
BEGIN:VTIMEZONE
TZID:America/New_York
BEGIN:DAYLIGHT
TZOFFSETFROM:-0500
TZOFFSETTO:-0400
TZNAME:EDT
DTSTART:20180311T070000
END:DAYLIGHT
BEGIN:STANDARD
TZOFFSETFROM:-0400
TZOFFSETTO:-0500
TZNAME:EST
DTSTART:20181104T060000
END:STANDARD
END:VTIMEZONE
BEGIN:VEVENT
DTSTART;TZID=America/New_York:20180308T183000
DTEND;TZID=America/New_York:20180308T203000
DTSTAMP:20260414T004139
CREATED:20180129T202044Z
LAST-MODIFIED:20180129T202044Z
UID:2424-1520533800-1520541000@www.healingaheartsloss.com
SUMMARY:SOS Support Group for London -Middlesex
DESCRIPTION:Survivor of Suicide (SOS) support group\nstarts March 8/18 and runs for 8 weeks till April 26/18\nThis is a FREE support group offered to those who are or have been affected by a suicide death and are aged 16 or over.\nThis group is offered at Canadian Mental Health Association-Middlesex in London\, Ontario\nThis support group is 100% funded by UNITED WAY ELGIN-MIDDLESEX \n  \nFor more information or to be added to a future wait list please contact Barbara Saunders at 519-434-9191 ext. 244\n  \n 
URL:https://www.healingaheartsloss.com/event/sos-support-group-for-london-middlesex/
CATEGORIES:SUPPORT GROUP
END:VEVENT
END:VCALENDAR