BEGIN:VCALENDAR
VERSION:2.0
PRODID:-//Healing a Hearts Loss - ECPv5.14.0.4//NONSGML v1.0//EN
CALSCALE:GREGORIAN
METHOD:PUBLISH
X-WR-CALNAME:Healing a Hearts Loss
X-ORIGINAL-URL:https://www.healingaheartsloss.com
X-WR-CALDESC:Events for Healing a Hearts Loss
BEGIN:VTIMEZONE
TZID:America/New_York
BEGIN:DAYLIGHT
TZOFFSETFROM:-0500
TZOFFSETTO:-0400
TZNAME:EDT
DTSTART:20180311T070000
END:DAYLIGHT
BEGIN:STANDARD
TZOFFSETFROM:-0400
TZOFFSETTO:-0500
TZNAME:EST
DTSTART:20181104T060000
END:STANDARD
END:VTIMEZONE
BEGIN:VEVENT
DTSTART;TZID=America/New_York:20180329T183000
DTEND;TZID=America/New_York:20180329T203000
DTSTAMP:20260413T202710
CREATED:20180129T203249Z
LAST-MODIFIED:20180129T203249Z
UID:2433-1522348200-1522355400@www.healingaheartsloss.com
SUMMARY:SOS Support group for London Middlesex
DESCRIPTION:Survivor of Suicide (SOS) support group\nstarted March 8/18 and runs for 8 weeks till April 26/18\nyou are more than welcomed to call and be added to the wait list for the next support group that starts.\nContact Barbara Saunders at 519-434-9191 ext. 244
URL:https://www.healingaheartsloss.com/event/sos-support-group-for-london-middlesex-4/
END:VEVENT
END:VCALENDAR