BEGIN:VCALENDAR
VERSION:2.0
PRODID:-//Healing a Hearts Loss - ECPv5.14.0.4//NONSGML v1.0//EN
CALSCALE:GREGORIAN
METHOD:PUBLISH
X-WR-CALNAME:Healing a Hearts Loss
X-ORIGINAL-URL:https://www.healingaheartsloss.com
X-WR-CALDESC:Events for Healing a Hearts Loss
BEGIN:VTIMEZONE
TZID:America/New_York
BEGIN:DAYLIGHT
TZOFFSETFROM:-0500
TZOFFSETTO:-0400
TZNAME:EDT
DTSTART:20170312T070000
END:DAYLIGHT
BEGIN:STANDARD
TZOFFSETFROM:-0400
TZOFFSETTO:-0500
TZNAME:EST
DTSTART:20171105T060000
END:STANDARD
END:VTIMEZONE
BEGIN:VEVENT
DTSTART;TZID=America/New_York:20171219T183000
DTEND;TZID=America/New_York:20171219T203000
DTSTAMP:20260414T063715
CREATED:20170814T191837Z
LAST-MODIFIED:20180827T142340Z
UID:2200-1513708200-1513715400@www.healingaheartsloss.com
SUMMARY:Serenity House Hospice Grief Support Group for St. Thomas & area
DESCRIPTION:Grief  Support Group\nFor those who are or have been affected by a death loss\n\n\nFREE\, 8 weekly sessions        \n\n\nsmall closed group (only those who start are in the group\, no one else comes in later on)\n\n\nfor people 18 years of age and over\n\n\nmust be at least 6 months since the loss to participate \n\n\nParticipants will have the opportunity to receive support from peers\, gain understanding about grief and loss\, learn coping strategies and understanding on how to move forward.\nFacilitated by Barbara J. Saunders a grief counsellor/Thanatologist\nStart Date: Tuesday\, October 31\, 2017   \nTime: 6:300 to 8:300 pm \nat Serenity House Hospice \n20 Flora St.\nLower Level\, St. John’s Anglican Church\nSt Thomas\, ON N5P 2X4 \nFor more information or to register\ncall Serenity House Hospice Phone: \n519 637-3034\nor Barbara at 519-637-8458\npre-registration is required
URL:https://www.healingaheartsloss.com/event/serenity-house-hospice-grief-support-group-for-st-thomas-area-4/
CATEGORIES:SUPPORT GROUP
END:VEVENT
END:VCALENDAR