BEGIN:VCALENDAR
VERSION:2.0
PRODID:-//Healing a Hearts Loss - ECPv5.14.0.4//NONSGML v1.0//EN
CALSCALE:GREGORIAN
METHOD:PUBLISH
X-WR-CALNAME:Healing a Hearts Loss
X-ORIGINAL-URL:https://www.healingaheartsloss.com
X-WR-CALDESC:Events for Healing a Hearts Loss
BEGIN:VTIMEZONE
TZID:America/New_York
BEGIN:DAYLIGHT
TZOFFSETFROM:-0500
TZOFFSETTO:-0400
TZNAME:EDT
DTSTART:20150308T070000
END:DAYLIGHT
BEGIN:STANDARD
TZOFFSETFROM:-0400
TZOFFSETTO:-0500
TZNAME:EST
DTSTART:20151101T060000
END:STANDARD
END:VTIMEZONE
BEGIN:VEVENT
DTSTART;TZID=America/New_York:20150906T000000
DTEND;TZID=America/New_York:20150906T130000
DTSTAMP:20260421T091038
CREATED:20150918T182856Z
LAST-MODIFIED:20150918T182856Z
UID:1967-1441497600-1441544400@www.healingaheartsloss.com
SUMMARY:Law School Presentation
DESCRIPTION:Speaking engagement to students assigned to be supports for new students.  Discussing areas of stressors for students and resources necessary for additional support.
URL:https://www.healingaheartsloss.com/event/law-school-presentation/
LOCATION:Law School at UWO\, Ontario\, Canada
END:VEVENT
END:VCALENDAR