BEGIN:VCALENDAR
VERSION:2.0
PRODID:-//Healing a Hearts Loss - ECPv5.14.0.4//NONSGML v1.0//EN
CALSCALE:GREGORIAN
METHOD:PUBLISH
X-WR-CALNAME:Healing a Hearts Loss
X-ORIGINAL-URL:https://www.healingaheartsloss.com
X-WR-CALDESC:Events for Healing a Hearts Loss
BEGIN:VTIMEZONE
TZID:America/New_York
BEGIN:DAYLIGHT
TZOFFSETFROM:-0500
TZOFFSETTO:-0400
TZNAME:EDT
DTSTART:20140309T070000
END:DAYLIGHT
BEGIN:STANDARD
TZOFFSETFROM:-0400
TZOFFSETTO:-0500
TZNAME:EST
DTSTART:20141102T060000
END:STANDARD
END:VTIMEZONE
BEGIN:VEVENT
DTSTART;TZID=America/New_York:20140916T183000
DTEND;TZID=America/New_York:20140916T203000
DTSTAMP:20260421T093224
CREATED:20140819T173833Z
LAST-MODIFIED:20140819T182732Z
UID:1813-1410892200-1410899400@www.healingaheartsloss.com
SUMMARY:Emotions ~ Spiritual Connections ~ Moving Forward
DESCRIPTION:NEW   week 1 of  6 weeks of classes\nEmotions ~ Spiritual Connections ~ Moving Forward \nThis workshop/class is held once a week and is designed to offer information about opening your heart and opening to spiritual connections.  You will learn about how your emotional state of being affects all areas of your life\, which includes mental\, emotional\, spiritual\, physical and so much more.  \nThe classes are for YOU and will adjust to what the group needs at the time. \nIn the classes you will learn more about how your emotions hold you back in many areas of life.  Specifically focusing on positive and negative energies and delving deeper into spiritual connections and what this means for you. \nA few of the topics to be touched on are; \n\nMeditation as you see it\nEnergy modalities for healing\nSpiritual connections; a better understanding\nWhat are you really missing now\nHow does your body speak to you\nWhat lessons are you not paying attention to\n\nBe prepared to; \n\nGrow spiritually\nSmile more\nUnderstand why difficult times challenge your sense of well being\n\nOnce you learn something it can never be unlearned.\nOnce you step on a path of enlightenment you cannot unlearn what you know.\nOnce you open your heart you will find more reasons for keeping it open.\nGroup size: small and closed \nTime: 6:30pm to 8:30 pm \nDay: Tuesdays \nDuration: 6 weeks with the option to continue longer. \nCost: $150.00 for 6 classes payable in advance ($25.00 per class) \nStart: Sept. 16th to Oct. 21st \nContact:  Barbara Saunders at   519-637-8458 or bsaunders@healingaheartsloss.com \n 
URL:https://www.healingaheartsloss.com/event/emotions-spiritual-connections-moving-forward/
LOCATION:Healing a Heart’s Loss\, 65 Gladstone Ave\, St. Thomas\, Ontario\, N5R 2L7\, Canada
ORGANIZER;CN="Barbara%20J.%20Saunders":MAILTO:bsaunders@healingaheartsloss.com
END:VEVENT
END:VCALENDAR