BEGIN:VCALENDAR
VERSION:2.0
PRODID:-//Healing a Hearts Loss - ECPv5.14.0.4//NONSGML v1.0//EN
CALSCALE:GREGORIAN
METHOD:PUBLISH
X-WR-CALNAME:Healing a Hearts Loss
X-ORIGINAL-URL:https://www.healingaheartsloss.com
X-WR-CALDESC:Events for Healing a Hearts Loss
BEGIN:VTIMEZONE
TZID:America/New_York
BEGIN:DAYLIGHT
TZOFFSETFROM:-0500
TZOFFSETTO:-0400
TZNAME:EDT
DTSTART:20140309T070000
END:DAYLIGHT
BEGIN:STANDARD
TZOFFSETFROM:-0400
TZOFFSETTO:-0500
TZNAME:EST
DTSTART:20141102T060000
END:STANDARD
END:VTIMEZONE
BEGIN:VEVENT
DTSTART;TZID=America/New_York:20140430T143000
DTEND;TZID=America/New_York:20140430T153000
DTSTAMP:20260425T052013
CREATED:20140326T154727Z
LAST-MODIFIED:20140326T155108Z
UID:1711-1398868200-1398871800@www.healingaheartsloss.com
SUMMARY:"Connect & Reconnect"
DESCRIPTION:A SPRING TIME CELEBRATION\nConnect & Reconnect Today\nWednesday\, April 30\, 2014\n1:30 pm till 3:30 or 4:00 pm\nPOT LUCK\nbring a dish of your choice and share with others\n                          \nCelebrate your successes with taking steps to moving forward after a\n loss experience.  Have you been to a group or counselling sessions \nwith “Healing a Heart’s Loss” and want to connect with others?\nAre you a friend who wants to share in the experience?\n  \nLocation: 65 Gladstone Ave\, St. Thomas\, Ontario \nRSVP: 519-637-8458 or bsaunders@healingaheartsloss.com \n  \nConnect for more details or answers to your questions. \nSpace is limited.
URL:https://www.healingaheartsloss.com/event/connect-reconnect/
LOCATION:Healing a Heart’s Loss\, 65 Gladstone Ave\, St. Thomas\, Ontario\, N5R 2L7\, Canada
CATEGORIES:Celebration
ORGANIZER;CN="Barbara%20J.%20Saunders":MAILTO:bsaunders@healingaheartsloss.com
END:VEVENT
END:VCALENDAR