BEGIN:VCALENDAR
VERSION:2.0
PRODID:-//Healing a Hearts Loss - ECPv5.14.0.4//NONSGML v1.0//EN
CALSCALE:GREGORIAN
METHOD:PUBLISH
X-WR-CALNAME:Healing a Hearts Loss
X-ORIGINAL-URL:https://www.healingaheartsloss.com
X-WR-CALDESC:Events for Healing a Hearts Loss
BEGIN:VTIMEZONE
TZID:America/New_York
BEGIN:DAYLIGHT
TZOFFSETFROM:-0500
TZOFFSETTO:-0400
TZNAME:EDT
DTSTART:20170312T070000
END:DAYLIGHT
BEGIN:STANDARD
TZOFFSETFROM:-0400
TZOFFSETTO:-0500
TZNAME:EST
DTSTART:20171105T060000
END:STANDARD
END:VTIMEZONE
BEGIN:VEVENT
DTSTART;VALUE=DATE:20171011
DTEND;VALUE=DATE:20171015
DTSTAMP:20260424T111821
CREATED:20170723T200842Z
LAST-MODIFIED:20170723T200842Z
UID:2149-1507680000-1508025599@www.healingaheartsloss.com
SUMMARY:Barbara is away at the Bereavement Ontario Network Conference 2017
DESCRIPTION:
URL:https://www.healingaheartsloss.com/event/barbara-is-away-at-the-bereavement-ontario-network-conference-2017/
LOCATION:Unnamed Venue\, Orillia\, Ontario\, Canada
END:VEVENT
END:VCALENDAR